BEGIN:VCALENDAR
VERSION:2.0
PRODID:-//The Grapevine in Gruene - ECPv6.3.4//NONSGML v1.0//EN
CALSCALE:GREGORIAN
METHOD:PUBLISH
X-ORIGINAL-URL:https://dev.grapevineingruene.com
X-WR-CALDESC:Events for The Grapevine in Gruene
REFRESH-INTERVAL;VALUE=DURATION:PT1H
X-Robots-Tag:noindex
X-PUBLISHED-TTL:PT1H
BEGIN:VTIMEZONE
TZID:UTC
BEGIN:STANDARD
TZOFFSETFROM:+0000
TZOFFSETTO:+0000
TZNAME:UTC
DTSTART:20230101T000000
END:STANDARD
END:VTIMEZONE
BEGIN:VEVENT
DTSTART;TZID=UTC:20231118T120000
DTEND;TZID=UTC:20231118T150000
DTSTAMP:20260421T074325
CREATED:20230802T183053Z
LAST-MODIFIED:20230802T183053Z
UID:10000167-1700308800-1700319600@dev.grapevineingruene.com
SUMMARY:Phil Luna Trio
DESCRIPTION:at The Grapevine
URL:https://dev.grapevineingruene.com/live-music-event/phil-luna-trio-3/
LOCATION:The Grapevine\, 1612 Hunter Rd.\, New Braunfels\, TX\, 78130\, United States
CATEGORIES:Free Event
END:VEVENT
BEGIN:VEVENT
DTSTART;TZID=UTC:20231118T160000
DTEND;TZID=UTC:20231118T190000
DTSTAMP:20260421T074325
CREATED:20230417T205142Z
LAST-MODIFIED:20230417T205142Z
UID:10000087-1700323200-1700334000@dev.grapevineingruene.com
SUMMARY:Colton's Kin
DESCRIPTION:at The Grapevin
URL:https://dev.grapevineingruene.com/live-music-event/coltons-kin-9/
LOCATION:The Grapevine\, 1612 Hunter Rd.\, New Braunfels\, TX\, 78130\, United States
CATEGORIES:Free Event
END:VEVENT
END:VCALENDAR