BEGIN:VCALENDAR
VERSION:2.0
PRODID:-//The Grapevine in Gruene - ECPv6.3.4//NONSGML v1.0//EN
CALSCALE:GREGORIAN
METHOD:PUBLISH
X-ORIGINAL-URL:https://dev.grapevineingruene.com
X-WR-CALDESC:Events for The Grapevine in Gruene
REFRESH-INTERVAL;VALUE=DURATION:PT1H
X-Robots-Tag:noindex
X-PUBLISHED-TTL:PT1H
BEGIN:VTIMEZONE
TZID:UTC
BEGIN:STANDARD
TZOFFSETFROM:+0000
TZOFFSETTO:+0000
TZNAME:UTC
DTSTART:20230101T000000
END:STANDARD
END:VTIMEZONE
BEGIN:VEVENT
DTSTART;TZID=UTC:20231109T160000
DTEND;TZID=UTC:20231109T190000
DTSTAMP:20260421T033317
CREATED:20231027T031010Z
LAST-MODIFIED:20231027T031010Z
UID:10000197-1699545600-1699556400@dev.grapevineingruene.com
SUMMARY:Sylvia & Matt Kirk
DESCRIPTION:at The Grapevine
URL:https://dev.grapevineingruene.com/live-music-event/sylvia-matt-kirk-2/
LOCATION:The Grapevine\, 1612 Hunter Rd.\, New Braunfels\, TX\, 78130\, United States
CATEGORIES:Free Event
END:VEVENT
END:VCALENDAR