BEGIN:VCALENDAR
VERSION:2.0
PRODID:-//The Grapevine in Gruene - ECPv6.3.4//NONSGML v1.0//EN
CALSCALE:GREGORIAN
METHOD:PUBLISH
X-ORIGINAL-URL:https://dev.grapevineingruene.com
X-WR-CALDESC:Events for The Grapevine in Gruene
REFRESH-INTERVAL;VALUE=DURATION:PT1H
X-Robots-Tag:noindex
X-PUBLISHED-TTL:PT1H
BEGIN:VTIMEZONE
TZID:UTC
BEGIN:STANDARD
TZOFFSETFROM:+0000
TZOFFSETTO:+0000
TZNAME:UTC
DTSTART:20230101T000000
END:STANDARD
END:VTIMEZONE
BEGIN:VEVENT
DTSTART;TZID=UTC:20231008T120000
DTEND;TZID=UTC:20231008T150000
DTSTAMP:20260421T053833
CREATED:20230921T184548Z
LAST-MODIFIED:20230921T184548Z
UID:10000185-1696766400-1696777200@dev.grapevineingruene.com
SUMMARY:Andi Holleman Trio
DESCRIPTION:at The Grapevine
URL:https://dev.grapevineingruene.com/live-music-event/andi-holleman-trio-6/
LOCATION:The Grapevine\, 1612 Hunter Rd.\, New Braunfels\, TX\, 78130\, United States
CATEGORIES:Free Event
END:VEVENT
BEGIN:VEVENT
DTSTART;TZID=UTC:20231008T160000
DTEND;TZID=UTC:20231008T190000
DTSTAMP:20260421T053833
CREATED:20230922T192545Z
LAST-MODIFIED:20230922T192545Z
UID:10000186-1696780800-1696791600@dev.grapevineingruene.com
SUMMARY:Allan Hendrickson Band
DESCRIPTION:at The Grapevine
URL:https://dev.grapevineingruene.com/live-music-event/allan-hendrickson-band/
LOCATION:The Grapevine\, 1612 Hunter Rd.\, New Braunfels\, TX\, 78130\, United States
CATEGORIES:Free Event
END:VEVENT
END:VCALENDAR